BEGIN:VCALENDAR
VERSION:2.0
PRODID:-//HER Health Collective - ECPv6.15.20//NONSGML v1.0//EN
CALSCALE:GREGORIAN
METHOD:PUBLISH
X-WR-CALNAME:HER Health Collective
X-ORIGINAL-URL:https://herhealthcollective.com
X-WR-CALDESC:Events for HER Health Collective
REFRESH-INTERVAL;VALUE=DURATION:PT1H
X-Robots-Tag:noindex
X-PUBLISHED-TTL:PT1H
BEGIN:VTIMEZONE
TZID:America/New_York
BEGIN:DAYLIGHT
TZOFFSETFROM:-0500
TZOFFSETTO:-0400
TZNAME:EDT
DTSTART:20250309T070000
END:DAYLIGHT
BEGIN:STANDARD
TZOFFSETFROM:-0400
TZOFFSETTO:-0500
TZNAME:EST
DTSTART:20251102T060000
END:STANDARD
BEGIN:DAYLIGHT
TZOFFSETFROM:-0500
TZOFFSETTO:-0400
TZNAME:EDT
DTSTART:20260308T070000
END:DAYLIGHT
BEGIN:STANDARD
TZOFFSETFROM:-0400
TZOFFSETTO:-0500
TZNAME:EST
DTSTART:20261101T060000
END:STANDARD
BEGIN:DAYLIGHT
TZOFFSETFROM:-0500
TZOFFSETTO:-0400
TZNAME:EDT
DTSTART:20270314T070000
END:DAYLIGHT
BEGIN:STANDARD
TZOFFSETFROM:-0400
TZOFFSETTO:-0500
TZNAME:EST
DTSTART:20271107T060000
END:STANDARD
END:VTIMEZONE
BEGIN:VEVENT
DTSTART;TZID=America/New_York:20260309T113000
DTEND;TZID=America/New_York:20260309T130000
DTSTAMP:20260424T043834
CREATED:20260223T151713Z
LAST-MODIFIED:20260223T151713Z
UID:25697-1773055800-1773061200@herhealthcollective.com
SUMMARY:Mom’s Lunch Date at Sassool
DESCRIPTION:Midday plans that don’t involve eating over the sink or in the car? Yes please. \nJoin us for a laid-back lunch date at Sassool\, where the food is amazing\, the vibes are easy\, and the conversation flows without anyone asking what you packed for school lunch tomorrow. This is a true mom pause. Come hungry for good food and even better connection.  \nExpect: \n\n Delicious Mediterranean comfort food\n Real\, adult conversation that doesn’t feel forced\n A table full of moms who just get it\n A reason to put on real clothes before noon\n\nNo agenda\, no pressure! Just a relaxed lunch\, some laughs\, and a reminder that you are more than everyone else’s to-do list. \nIf you’ve been craving connection and a meal you didn’t have to cook\, save your seat. We’ll be at the table with all the moms laughing and having the best time. Crissy & friends will see you there! \n**************Not a HER Circle member and interested in joining us at this event? We’d love to have you join us! Send us a message and we will be happy to get you all the info you need!
URL:https://herhealthcollective.com/calendar-event/moms-lunch-date-at-sassool/
LOCATION:sassool\, 9650 Strickland Rd\, Raleigh\, NC
CATEGORIES:Members Only
END:VEVENT
END:VCALENDAR