BEGIN:VCALENDAR
VERSION:2.0
PRODID:-//HER Health Collective - ECPv6.15.20//NONSGML v1.0//EN
CALSCALE:GREGORIAN
METHOD:PUBLISH
X-WR-CALNAME:HER Health Collective
X-ORIGINAL-URL:https://herhealthcollective.com
X-WR-CALDESC:Events for HER Health Collective
REFRESH-INTERVAL;VALUE=DURATION:PT1H
X-Robots-Tag:noindex
X-PUBLISHED-TTL:PT1H
BEGIN:VTIMEZONE
TZID:America/New_York
BEGIN:DAYLIGHT
TZOFFSETFROM:-0500
TZOFFSETTO:-0400
TZNAME:EDT
DTSTART:20250309T070000
END:DAYLIGHT
BEGIN:STANDARD
TZOFFSETFROM:-0400
TZOFFSETTO:-0500
TZNAME:EST
DTSTART:20251102T060000
END:STANDARD
BEGIN:DAYLIGHT
TZOFFSETFROM:-0500
TZOFFSETTO:-0400
TZNAME:EDT
DTSTART:20260308T070000
END:DAYLIGHT
BEGIN:STANDARD
TZOFFSETFROM:-0400
TZOFFSETTO:-0500
TZNAME:EST
DTSTART:20261101T060000
END:STANDARD
BEGIN:DAYLIGHT
TZOFFSETFROM:-0500
TZOFFSETTO:-0400
TZNAME:EDT
DTSTART:20270314T070000
END:DAYLIGHT
BEGIN:STANDARD
TZOFFSETFROM:-0400
TZOFFSETTO:-0500
TZNAME:EST
DTSTART:20271107T060000
END:STANDARD
END:VTIMEZONE
BEGIN:VEVENT
DTSTART;TZID=America/New_York:20260320T090000
DTEND;TZID=America/New_York:20260320T094500
DTSTAMP:20260424T043728
CREATED:20260223T152654Z
LAST-MODIFIED:20260223T152654Z
UID:25705-1773997200-1773999900@herhealthcollective.com
SUMMARY:Teach Workday Morning Playdate: Little Yoga @Current Wellness
DESCRIPTION:Join Courtney Joyce for a special Yoga class designed for the whole family. This class will get both children and their adults moving in fun\, playful ways\, and are designed to encourage self-confidence and bonding. This class will end with a calming and uplifting quiet time\, and is designed for children ages 4-10 and their caregivers.\n\nCost is $25 for child and caregiver ($10 for additional children). Purchase your ticket here:https://currentwellnessraleigh.com/events/little-love-yoga/ .\n\n* * * * *This event is open to HER Circle members. Not a member of HER Circle yet? What are you waiting for? We’d love to have you!\n\nOur fun\, supportive community is the perfect way to build your circle of mom friends\, take time for yourself\, and gain access to the expert information you care about most. Our events provide you with an opportunity to connect with like-minded women\, build authentic friendships\, and connect with trusted experts to get your most pressing questions answered!\n\nJoin the waitlist and be the first to know when we’ve re-opened the doors to new members!https://waitlist.herhealthcollective.com/hercircle
URL:https://herhealthcollective.com/calendar-event/teach-workday-morning-playdate-little-yoga-current-wellness/
LOCATION:current wellness\, 219 South East St\, Raleigh\, NC
CATEGORIES:Members Only
END:VEVENT
END:VCALENDAR