BEGIN:VCALENDAR
VERSION:2.0
PRODID:-//HER Health Collective - ECPv6.15.20//NONSGML v1.0//EN
CALSCALE:GREGORIAN
METHOD:PUBLISH
X-WR-CALNAME:HER Health Collective
X-ORIGINAL-URL:https://herhealthcollective.com
X-WR-CALDESC:Events for HER Health Collective
REFRESH-INTERVAL;VALUE=DURATION:PT1H
X-Robots-Tag:noindex
X-PUBLISHED-TTL:PT1H
BEGIN:VTIMEZONE
TZID:America/New_York
BEGIN:DAYLIGHT
TZOFFSETFROM:-0500
TZOFFSETTO:-0400
TZNAME:EDT
DTSTART:20250309T070000
END:DAYLIGHT
BEGIN:STANDARD
TZOFFSETFROM:-0400
TZOFFSETTO:-0500
TZNAME:EST
DTSTART:20251102T060000
END:STANDARD
BEGIN:DAYLIGHT
TZOFFSETFROM:-0500
TZOFFSETTO:-0400
TZNAME:EDT
DTSTART:20260308T070000
END:DAYLIGHT
BEGIN:STANDARD
TZOFFSETFROM:-0400
TZOFFSETTO:-0500
TZNAME:EST
DTSTART:20261101T060000
END:STANDARD
BEGIN:DAYLIGHT
TZOFFSETFROM:-0500
TZOFFSETTO:-0400
TZNAME:EDT
DTSTART:20270314T070000
END:DAYLIGHT
BEGIN:STANDARD
TZOFFSETFROM:-0400
TZOFFSETTO:-0500
TZNAME:EST
DTSTART:20271107T060000
END:STANDARD
END:VTIMEZONE
BEGIN:VEVENT
DTSTART;TZID=America/New_York:20260322T100000
DTEND;TZID=America/New_York:20260322T120000
DTSTAMP:20260424T043728
CREATED:20260223T153020Z
LAST-MODIFIED:20260223T153020Z
UID:25708-1774173600-1774180800@herhealthcollective.com
SUMMARY:Raleigh Tea Festival
DESCRIPTION:Join your moms friends for the first-ever Raleigh Tea Festival – a celebration of culture\, community\, and the art of tea. Sam P will meet you there!\n\nGuests will discover world-class teas\, meet local and passionate makers and bakers\, and explore tastings\, workshops\, and wellness experiences. From traditional ceremonies to modern tea innovations\, this festival brings together tea lovers\, creatives\, and curious newcomers for a vibrant day of flavor\, storytelling\, and connection in the heart of Raleigh.\nAdmission fee is $18\n\nWhat’s Included: Entry to the festival A complimentary tasting cup and a tote bag Tea samples from participating tea booths\nCome sip\, explore\, and celebrate the world of tea with us — we can’t wait to welcome you!\n\nVisit Us: raleighteafestival.square.site\n\n**************Not a HER Circle member and interested in joining us at this event? We’d love to have you join us! Send us a message and we will be happy to get you all the info you need!
URL:https://herhealthcollective.com/calendar-event/raleigh-tea-festival/
LOCATION:Raleigh Tea Festival\, 622 Maywood Ave\, Raleigh\, NC
CATEGORIES:Members Only
END:VEVENT
END:VCALENDAR