BEGIN:VCALENDAR
VERSION:2.0
PRODID:-//HER Health Collective - ECPv6.15.20//NONSGML v1.0//EN
CALSCALE:GREGORIAN
METHOD:PUBLISH
X-WR-CALNAME:HER Health Collective
X-ORIGINAL-URL:https://herhealthcollective.com
X-WR-CALDESC:Events for HER Health Collective
REFRESH-INTERVAL;VALUE=DURATION:PT1H
X-Robots-Tag:noindex
X-PUBLISHED-TTL:PT1H
BEGIN:VTIMEZONE
TZID:America/New_York
BEGIN:DAYLIGHT
TZOFFSETFROM:-0500
TZOFFSETTO:-0400
TZNAME:EDT
DTSTART:20250309T070000
END:DAYLIGHT
BEGIN:STANDARD
TZOFFSETFROM:-0400
TZOFFSETTO:-0500
TZNAME:EST
DTSTART:20251102T060000
END:STANDARD
BEGIN:DAYLIGHT
TZOFFSETFROM:-0500
TZOFFSETTO:-0400
TZNAME:EDT
DTSTART:20260308T070000
END:DAYLIGHT
BEGIN:STANDARD
TZOFFSETFROM:-0400
TZOFFSETTO:-0500
TZNAME:EST
DTSTART:20261101T060000
END:STANDARD
BEGIN:DAYLIGHT
TZOFFSETFROM:-0500
TZOFFSETTO:-0400
TZNAME:EDT
DTSTART:20270314T070000
END:DAYLIGHT
BEGIN:STANDARD
TZOFFSETFROM:-0400
TZOFFSETTO:-0500
TZNAME:EST
DTSTART:20271107T060000
END:STANDARD
END:VTIMEZONE
BEGIN:VEVENT
DTSTART;TZID=America/New_York:20260422T120000
DTEND;TZID=America/New_York:20260422T130000
DTSTAMP:20260422T104737
CREATED:20260315T160741Z
LAST-MODIFIED:20260315T160741Z
UID:25920-1776859200-1776862800@herhealthcollective.com
SUMMARY:Virtual Expert Roundtable: Maternal Grief & Loss: Supporting Moms Through Hard Seasons
DESCRIPTION:This month opens space for the many forms of loss mothers experience—whether miscarriage\, infertility\, the loss of identity\, or losing a loved one. We’ll explore how grief shows up in daily life\, how to support mothers through these seasons\, and how professionals across fields can provide compassionate\, non-dismissive care. Experts will discuss both emotional processing and practical support\, helping moms feel seen\, validated\, and less alone. \n✨ HER Circle members are invited to attend live!\nYou’ll be able to listen in and ask questions via the chat feature\, but we kindly ask all attendees to remain muted for the duration of the session to ensure high-quality audio for the recording. \nCome be part of the conversation — we can’t wait to share this moment with you! \n**************\nNot a HER Circle member and interested in joining us at this event? We’d love to have you join us! Send us a DM and we will be happy to get you all the info you need! \n* * * * * *\nHER Circle Members can find the meeting link on the private group page or in the Monday Member Email.
URL:https://herhealthcollective.com/calendar-event/virtual-expert-roundtable-maternal-grief-loss-supporting-moms-through-hard-seasons/
LOCATION:Online Event\, NC\, United States
CATEGORIES:Members Only
ATTACH;FMTTYPE=image/jpeg:https://herhealthcollective.com/wp-content/uploads/2026/03/grief.jpg
END:VEVENT
END:VCALENDAR