BEGIN:VCALENDAR
VERSION:2.0
PRODID:-//HER Health Collective - ECPv6.15.20//NONSGML v1.0//EN
CALSCALE:GREGORIAN
METHOD:PUBLISH
X-WR-CALNAME:HER Health Collective
X-ORIGINAL-URL:https://herhealthcollective.com
X-WR-CALDESC:Events for HER Health Collective
REFRESH-INTERVAL;VALUE=DURATION:PT1H
X-Robots-Tag:noindex
X-PUBLISHED-TTL:PT1H
BEGIN:VTIMEZONE
TZID:America/New_York
BEGIN:DAYLIGHT
TZOFFSETFROM:-0500
TZOFFSETTO:-0400
TZNAME:EDT
DTSTART:20240310T070000
END:DAYLIGHT
BEGIN:STANDARD
TZOFFSETFROM:-0400
TZOFFSETTO:-0500
TZNAME:EST
DTSTART:20241103T060000
END:STANDARD
BEGIN:DAYLIGHT
TZOFFSETFROM:-0500
TZOFFSETTO:-0400
TZNAME:EDT
DTSTART:20250309T070000
END:DAYLIGHT
BEGIN:STANDARD
TZOFFSETFROM:-0400
TZOFFSETTO:-0500
TZNAME:EST
DTSTART:20251102T060000
END:STANDARD
BEGIN:DAYLIGHT
TZOFFSETFROM:-0500
TZOFFSETTO:-0400
TZNAME:EDT
DTSTART:20260308T070000
END:DAYLIGHT
BEGIN:STANDARD
TZOFFSETFROM:-0400
TZOFFSETTO:-0500
TZNAME:EST
DTSTART:20261101T060000
END:STANDARD
END:VTIMEZONE
BEGIN:VEVENT
DTSTART;TZID=America/New_York:20251029T110000
DTEND;TZID=America/New_York:20251029T130000
DTSTAMP:20260424T173618
CREATED:20250919T002012Z
LAST-MODIFIED:20250919T002012Z
UID:23733-1761735600-1761742800@herhealthcollective.com
SUMMARY:Mom’s Lunch Date: Whiskey Kitchen
DESCRIPTION:Join us for one of our favorite mom traditions — lunch out with friends! We’re heading to Whiskey Kitchen\, a hip venue featuring inventive Southern fare.\n\nTake a break from the hustle\, share a few laughs\, and enjoy some much-deserved time around the table with your HER Circle community.\n\nPlease keep your RSVP current so we know how large of a table to ask for. Bring the kiddos with you if they’re home!\n\nWe can’t wait to see you there! \n\n* * * * *This event is open to HER Circle members. Not a member of HER Circle yet? What are you waiting for? We’d love to have you!\n\nOur fun\, supportive community is the perfect way to build your circle of mom friends\, take time for yourself\, and gain access to the expert information you care about most. Our events provide you with an opportunity to connect with like-minded women\, build authentic friendships\, and connect with trusted experts to get your most pressing questions answered!\n\nJoin the waitlist and be the first to know when we’ve re-opened the doors to new members!https://waitlist.herhealthcollective.com/hercircle
URL:https://herhealthcollective.com/calendar-event/moms-lunch-date-whiskey-kitchen/
LOCATION:Whiskey Kitchen\, 201 W Martin St\, Raleigh\, NC
CATEGORIES:Members Only
END:VEVENT
BEGIN:VEVENT
DTSTART;TZID=America/New_York:20251026T140000
DTEND;TZID=America/New_York:20251026T153000
DTSTAMP:20260424T173618
CREATED:20250919T011607Z
LAST-MODIFIED:20250919T011607Z
UID:23741-1761487200-1761492600@herhealthcollective.com
SUMMARY:Book Cub: Project Hail Mary
DESCRIPTION:Lindsay is looking forward to chatting about this month’s book club pick\, Project Hail Mary\, with you. The movie comes out in March\, so get ahead and read it with us before then! \nWe’ll meet up at Transfer Food Hall (near benchwarmers). Grab a snack or drink to enjoy while we chat! It’s the perfect afternoon getaway together. \n* * * * *\nThis event is open to HER Circle members. Not a member of HER Circle yet? What are you waiting for? We’d love to have you! \nOur fun\, supportive community is the perfect way to build your circle of mom friends\, take time for yourself\, and gain access to the expert information you care about most. Our events provide you with an opportunity to connect with like-minded women\, build authentic friendships\, and connect with trusted experts to get your most pressing questions answered! \nJoin the waitlist and be the first to know when we’ve re-opened the doors to new members!\nhttps://waitlist.herhealthcollective.com/hercircle
URL:https://herhealthcollective.com/calendar-event/book-cub-project-hail-mary/
LOCATION:Transfer Co Food Hall\, 500 E Davie St\, Raleigh\, North Carolina\, 27601\, United States
CATEGORIES:Members Only
ATTACH;FMTTYPE=image/png:https://herhealthcollective.com/wp-content/uploads/2025/09/October-Book-Club.png
END:VEVENT
BEGIN:VEVENT
DTSTART;TZID=America/New_York:20251024T190000
DTEND;TZID=America/New_York:20251024T213000
DTSTAMP:20260424T173618
CREATED:20250919T001243Z
LAST-MODIFIED:20250924T130948Z
UID:23725-1761332400-1761341400@herhealthcollective.com
SUMMARY:Mom’s Night Out: Movie Night Under the Stars w/ Hocus Pocus
DESCRIPTION:Double\, double\, moms and trouble… \nWe’re brewing up a magical night:  Potluck + Bonfire + Hocus Pocus at Perry Pines \n\nGrab your blanket\, your favorite dish to share\, and come join us for a magical fall evening under the stars! We’ll kick things off with a potluck dinner\, gather around the bonfire for some cozy conversation\, and settle in for a screening of the Halloween classic Hocus Pocus on the outdoor screen.\n\n Potluck dinner – bring a dish to share Bonfire vibes – perfect for chilly fall air Outdoor movie – Hocus Pocus under the stars\nThis night is just for the moms—a chance to relax\, laugh\, and soak up some autumn magic together.\n\n RSVP on the FB event page to save your spot\, and don’t forget your lawn chair or blanket!\n**************************This event is being held at a private location. The address will be shared after RSVP is confirmed.**************************\nNot a HER Circle member and interested in joining us at this event? We’d love to have you join us! Send us a DM and we will be happy to get you all the info you need!
URL:https://herhealthcollective.com/calendar-event/moms-night-out-movie-night-under-the-stars-w-hocus-pocus/
LOCATION:Private Residence
CATEGORIES:Members Only
END:VEVENT
END:VCALENDAR