BEGIN:VCALENDAR
VERSION:2.0
PRODID:-//HER Health Collective - ECPv6.15.20//NONSGML v1.0//EN
CALSCALE:GREGORIAN
METHOD:PUBLISH
X-WR-CALNAME:HER Health Collective
X-ORIGINAL-URL:https://herhealthcollective.com
X-WR-CALDESC:Events for HER Health Collective
REFRESH-INTERVAL;VALUE=DURATION:PT1H
X-Robots-Tag:noindex
X-PUBLISHED-TTL:PT1H
BEGIN:VTIMEZONE
TZID:America/New_York
BEGIN:DAYLIGHT
TZOFFSETFROM:-0500
TZOFFSETTO:-0400
TZNAME:EDT
DTSTART:20240310T070000
END:DAYLIGHT
BEGIN:STANDARD
TZOFFSETFROM:-0400
TZOFFSETTO:-0500
TZNAME:EST
DTSTART:20241103T060000
END:STANDARD
BEGIN:DAYLIGHT
TZOFFSETFROM:-0500
TZOFFSETTO:-0400
TZNAME:EDT
DTSTART:20250309T070000
END:DAYLIGHT
BEGIN:STANDARD
TZOFFSETFROM:-0400
TZOFFSETTO:-0500
TZNAME:EST
DTSTART:20251102T060000
END:STANDARD
BEGIN:DAYLIGHT
TZOFFSETFROM:-0500
TZOFFSETTO:-0400
TZNAME:EDT
DTSTART:20260308T070000
END:DAYLIGHT
BEGIN:STANDARD
TZOFFSETFROM:-0400
TZOFFSETTO:-0500
TZNAME:EST
DTSTART:20261101T060000
END:STANDARD
END:VTIMEZONE
BEGIN:VEVENT
DTSTART;TZID=America/New_York:20251112T120000
DTEND;TZID=America/New_York:20251112T130000
DTSTAMP:20260422T074331
CREATED:20251014T195349Z
LAST-MODIFIED:20251014T195349Z
UID:23886-1762948800-1762952400@herhealthcollective.com
SUMMARY:Virtual Roundtable: Holistic Solutions for Common Mom Ailments
DESCRIPTION:Tired of the same old advice for the aches\, pains\, and stressors of motherhood? Join us for a special Virtual Roundtable Podcast Recording where our HER Experts will share holistic\, practical solutions for some of the most common ailments moms face. From fatigue and tension to digestion and mood support\, you’ll walk away with fresh ideas to care for yourself in more natural and sustainable ways.\n Important Note: Since this is also being recorded for our Mama Needs a Moment podcast\, we ask that all attendees remain on mute during the call. You’ll still be able to connect by using the chat box to share your questions and comments\, and our hosts will bring those into the conversation.\nThis is your chance to be part of a live recording\, hear from trusted experts\, and pick up tools that will make a difference in your everyday mom life.\n\n******Members can find the link for the event in the weekly email and reminder messages.**************Not a HER Circle member and interested in joining us at this event? We’d love to have you join us! Send us a message and we will be happy to get you all the info you need!
URL:https://herhealthcollective.com/calendar-event/virtual-roundtable-holistic-solutions-for-common-mom-ailments/
LOCATION:Online Event\, NC\, United States
CATEGORIES:Members Only
ATTACH;FMTTYPE=image/png:https://herhealthcollective.com/wp-content/uploads/2025/10/holistic.png
END:VEVENT
END:VCALENDAR