BEGIN:VCALENDAR
VERSION:2.0
PRODID:-//HER Health Collective - ECPv6.15.20//NONSGML v1.0//EN
CALSCALE:GREGORIAN
METHOD:PUBLISH
X-WR-CALNAME:HER Health Collective
X-ORIGINAL-URL:https://herhealthcollective.com
X-WR-CALDESC:Events for HER Health Collective
REFRESH-INTERVAL;VALUE=DURATION:PT1H
X-Robots-Tag:noindex
X-PUBLISHED-TTL:PT1H
BEGIN:VTIMEZONE
TZID:America/New_York
BEGIN:DAYLIGHT
TZOFFSETFROM:-0500
TZOFFSETTO:-0400
TZNAME:EDT
DTSTART:20250309T070000
END:DAYLIGHT
BEGIN:STANDARD
TZOFFSETFROM:-0400
TZOFFSETTO:-0500
TZNAME:EST
DTSTART:20251102T060000
END:STANDARD
BEGIN:DAYLIGHT
TZOFFSETFROM:-0500
TZOFFSETTO:-0400
TZNAME:EDT
DTSTART:20260308T070000
END:DAYLIGHT
BEGIN:STANDARD
TZOFFSETFROM:-0400
TZOFFSETTO:-0500
TZNAME:EST
DTSTART:20261101T060000
END:STANDARD
BEGIN:DAYLIGHT
TZOFFSETFROM:-0500
TZOFFSETTO:-0400
TZNAME:EDT
DTSTART:20270314T070000
END:DAYLIGHT
BEGIN:STANDARD
TZOFFSETFROM:-0400
TZOFFSETTO:-0500
TZNAME:EST
DTSTART:20271107T060000
END:STANDARD
END:VTIMEZONE
BEGIN:VEVENT
DTSTART;TZID=America/New_York:20260303T180000
DTEND;TZID=America/New_York:20260303T190000
DTSTAMP:20260423T072101
CREATED:20260219T205603Z
LAST-MODIFIED:20260219T205604Z
UID:25673-1772560800-1772564400@herhealthcollective.com
SUMMARY:Wine\, Women & Wealth
DESCRIPTION:As we head into March and St. Patrick’s Day season\, we hear a lot about luck — but when it comes to our finances and future\, most women don’t want to leave things to chance. \nWine\, Women & Wealth® is a relaxed\, educational evening by HER Expert Allison Strickland\, designed to help women feel more prepared and confident — without pressure or overwhelm. \nThis gathering offers: \n\npractical education around protecting and planning for your future\ntime for conversation and connection\nan opportunity to meet and connect with other women in a welcoming space\n\nWe’ll enjoy a glass of wine\, meaningful discussion\, and thoughtful insight — all in an environment that values clarity\, connection\, and confidence. \nWhether you’re just beginning to ask questions or looking to strengthen what you already have in place\, this evening is designed to meet you where you are. \nCome as you are. Leave more informed and connected. \nReserve your spot ASAP here. The event is free to attend! Crissy will see you there.\n**************Not a HER Circle member and interested in joining us at this event? We’d love to have you join us! Send us a message and we will be happy to get you all the info you need!
URL:https://herhealthcollective.com/calendar-event/wine-women-wealth/
LOCATION:Total Wine and More\, 4421 Six Forks Rd\, Raleigh\, NC
CATEGORIES:Members Only
END:VEVENT
END:VCALENDAR