BEGIN:VCALENDAR
VERSION:2.0
PRODID:-//HER Health Collective - ECPv6.15.20//NONSGML v1.0//EN
CALSCALE:GREGORIAN
METHOD:PUBLISH
X-ORIGINAL-URL:https://herhealthcollective.com
X-WR-CALDESC:Events for HER Health Collective
REFRESH-INTERVAL;VALUE=DURATION:PT1H
X-Robots-Tag:noindex
X-PUBLISHED-TTL:PT1H
BEGIN:VTIMEZONE
TZID:America/New_York
BEGIN:DAYLIGHT
TZOFFSETFROM:-0500
TZOFFSETTO:-0400
TZNAME:EDT
DTSTART:20250309T070000
END:DAYLIGHT
BEGIN:STANDARD
TZOFFSETFROM:-0400
TZOFFSETTO:-0500
TZNAME:EST
DTSTART:20251102T060000
END:STANDARD
BEGIN:DAYLIGHT
TZOFFSETFROM:-0500
TZOFFSETTO:-0400
TZNAME:EDT
DTSTART:20260308T070000
END:DAYLIGHT
BEGIN:STANDARD
TZOFFSETFROM:-0400
TZOFFSETTO:-0500
TZNAME:EST
DTSTART:20261101T060000
END:STANDARD
BEGIN:DAYLIGHT
TZOFFSETFROM:-0500
TZOFFSETTO:-0400
TZNAME:EDT
DTSTART:20270314T070000
END:DAYLIGHT
BEGIN:STANDARD
TZOFFSETFROM:-0400
TZOFFSETTO:-0500
TZNAME:EST
DTSTART:20271107T060000
END:STANDARD
END:VTIMEZONE
BEGIN:VEVENT
DTSTART;TZID=America/New_York:20260308T150000
DTEND;TZID=America/New_York:20260308T170000
DTSTAMP:20260422T081523
CREATED:20260223T151133Z
LAST-MODIFIED:20260223T151133Z
UID:25694-1772982000-1772989200@herhealthcollective.com
SUMMARY:Mom's Day Out: Hike at Anderson Point Park
DESCRIPTION: Fresh air\, good company\, and zero pressure to be anything other than yourself. This afternoon hike is your excuse to get out of the house\, stretch your legs\, and spend a few easy hours with other moms who just get it.\n\nWe’ll take a relaxed walk through the trails along the Neuse River. Expect gentle movement\, real conversation\, a few laughs\, and that grounded feeling you only get after being outside. Come solo or bring a mom friend. No speed walking\, no fitness expectations\, no awkward icebreakers.\n\nThink:• A mental reset without needing childcare• Connection that feels natural\, not forced• Nature doing its quiet magic• You heading into the evening feeling lighter than you arrived\nWear comfy shoes\, bring water\, and come as you are. This is about presence\, not performance.\nIf you’ve been craving fresh air and adult conversation\, this one’s for you  Crissy will meet you there!\n\n**************Not a HER Circle member and interested in joining us at this event? We’d love to have you join us! Send us a message and we will be happy to get you all the info you need!
URL:https://herhealthcollective.com/calendar-event/moms-day-out-hike-at-anderson-point-park/
LOCATION:Anderson Point Park\, 20 Anderson Point Dr.\, Raleigh\, NC
CATEGORIES:Members Only
END:VEVENT
END:VCALENDAR