BEGIN:VCALENDAR
VERSION:2.0
PRODID:-//HER Health Collective - ECPv6.15.20//NONSGML v1.0//EN
CALSCALE:GREGORIAN
METHOD:PUBLISH
X-WR-CALNAME:HER Health Collective
X-ORIGINAL-URL:https://herhealthcollective.com
X-WR-CALDESC:Events for HER Health Collective
REFRESH-INTERVAL;VALUE=DURATION:PT1H
X-Robots-Tag:noindex
X-PUBLISHED-TTL:PT1H
BEGIN:VTIMEZONE
TZID:America/New_York
BEGIN:DAYLIGHT
TZOFFSETFROM:-0500
TZOFFSETTO:-0400
TZNAME:EDT
DTSTART:20250309T070000
END:DAYLIGHT
BEGIN:STANDARD
TZOFFSETFROM:-0400
TZOFFSETTO:-0500
TZNAME:EST
DTSTART:20251102T060000
END:STANDARD
BEGIN:DAYLIGHT
TZOFFSETFROM:-0500
TZOFFSETTO:-0400
TZNAME:EDT
DTSTART:20260308T070000
END:DAYLIGHT
BEGIN:STANDARD
TZOFFSETFROM:-0400
TZOFFSETTO:-0500
TZNAME:EST
DTSTART:20261101T060000
END:STANDARD
BEGIN:DAYLIGHT
TZOFFSETFROM:-0500
TZOFFSETTO:-0400
TZNAME:EDT
DTSTART:20270314T070000
END:DAYLIGHT
BEGIN:STANDARD
TZOFFSETFROM:-0400
TZOFFSETTO:-0500
TZNAME:EST
DTSTART:20271107T060000
END:STANDARD
END:VTIMEZONE
BEGIN:VEVENT
DTSTART;TZID=America/New_York:20260119T100000
DTEND;TZID=America/New_York:20260119T130000
DTSTAMP:20260422T154418
CREATED:20251217T030521Z
LAST-MODIFIED:20251217T030521Z
UID:25122-1768816800-1768827600@herhealthcollective.com
SUMMARY:Playdate: Over the Moon
DESCRIPTION:No school for Wake County = built-in playtime!\n\nIf the kids are home\, bring them out to burn some energy and join your HER friends for a fun-filled Playdate at Over the Moon! This is the perfect way to keep little ones entertained while you connect with other moms in the community.\n\nA few things to know: Spots will go fast since school is out — snag your spot as soon as registration opens We’ll send a group text when Over the Moon releases slots for this date After playtime\, we’ll head across the street for pizza + hangout time to keep the fun rolling\nCome for the play\, stay for the laughter\, the community\, and the easy Monday vibes.\n\n**************Not a HER Circle member and interested in joining us at this event? We’d love to have you join us! Send us a message and we will be happy to get you all the info you need!
URL:https://herhealthcollective.com/calendar-event/playdate-over-the-moon/
LOCATION:over the moon\, 653 Cary Towne Blvd\, Cary\, NC
CATEGORIES:Members Only
END:VEVENT
END:VCALENDAR